BEGIN:VCALENDAR
VERSION:2.0
PRODID:-//Ziber2013/
CALSCALE:GREGORIAN
BEGIN:VEVENT
UID:242564@https://www.verrekijkerjulianadorp.nl
DTSTART:20260518T000000
DTEND:20260522T235959
SUMMARY:Avondvierdaagse
DESCRIPTION:
LOCATION:Jenaplan Kindcentrum De Verrekijker\, Vogelzand 4104\, 1788 MJ Julianadorp
X-MICROSOFT-CDO-ALLDAYEVENT:TRUE
ATTACH;FMTTYPE=image/jpeg:/content/monsterGallery/sportsday.png?width=1600&height=1200
SEQUENCE:0
DTSTAMP:20260422T132743
END:VEVENT
END:VCALENDAR
