BEGIN:VCALENDAR
VERSION:2.0
PRODID:-//Ziber2013/
CALSCALE:GREGORIAN
BEGIN:VEVENT
UID:242571@https://www.verrekijkerjulianadorp.nl
DTSTART:20260610T113000
DTEND:20260610T123000
SUMMARY:Ouderbedanklunch
DESCRIPTION:
LOCATION:Jenaplan Kindcentrum De Verrekijker\, Vogelzand 4104\, 1788 MJ Julianadorp
ATTACH;FMTTYPE=image/jpeg:/content/monsterGallery/remain.png?width=1600&height=1200
SEQUENCE:0
DTSTAMP:20260422T132534
END:VEVENT
END:VCALENDAR
